BEGIN:VCALENDAR
PRODID:-//Mozilla.org/NONSGML Mozilla Calendar V1.1//EN
VERSION:2.0
BEGIN:VEVENT
UID:8c6e1e51-2ffd-4354-a4a0-3e5f534a9b89
DTSTAMP:20260409T083000
DTSTART:20260409T083000
DTEND:20260409T163000
LOCATION:ConnectU Campus (Universiteitsgebouw),Ariënsplein 1 Enschede 
DESCRIPTION:Bezoek de Werkplaats Twente en ga aan de slag met jouw opgave in de energietransitie. Kennis, ervaring en inspiratie rond de energietransitie komen hier bij elkaar.
SUMMARY:Werkplaats Twente
PRIORITY:3
END:VEVENT
END:VCALENDAR
