BEGIN:VCALENDAR
PRODID:-//Mozilla.org/NONSGML Mozilla Calendar V1.1//EN
VERSION:2.0
BEGIN:VEVENT
UID:87c08a1d-a43e-41c5-8869-b7508ca82d76
DTSTAMP:20260416T083000
DTSTART:20260416T083000
DTEND:20260416T163000
LOCATION:Holstohus,Jan Schamhartstraat 5, Olst
DESCRIPTION:Bezoek de Werkplaats West-Overijssel en ga aan de slag met jouw opgave in de energietransitie. Kennis, ervaring en inspiratie rond de energietransitie komen hier bij elkaar.
SUMMARY:Werkplaats West-Overijssel
PRIORITY:3
END:VEVENT
END:VCALENDAR
