BEGIN:VCALENDAR
PRODID:-//Mozilla.org/NONSGML Mozilla Calendar V1.1//EN
VERSION:2.0
BEGIN:VEVENT
UID:d73b6d50-6d66-45ca-9049-35bf4068cebf
DTSTAMP:20260611T083000
DTSTART:20260611T083000
DTEND:20260611T163000
LOCATION:ConnectU Campus (Universiteitsgebouw), Ariënsplein 1 Enschede 
SUMMARY:Werkplaats Twente
PRIORITY:3
END:VEVENT
END:VCALENDAR
