BEGIN:VCALENDAR
PRODID:-//Mozilla.org/NONSGML Mozilla Calendar V1.1//EN
VERSION:2.0
BEGIN:VEVENT
UID:d5ac281c-5db6-48e4-9e34-394aae4d9649
DTSTAMP:20260618T083000
DTSTART:20260618T083000
DTEND:20260618T163000
LOCATION:Holstohus, Jan Schamhartstraat in Olst
SUMMARY:Werkplaats West-Overijssel
PRIORITY:3
END:VEVENT
END:VCALENDAR
