BEGIN:VCALENDAR
PRODID:-//Mozilla.org/NONSGML Mozilla Calendar V1.1//EN
VERSION:2.0
BEGIN:VEVENT
UID:9c836fd3-c324-45f3-a40a-183dbeda35f7
DTSTAMP:20260521T083000
DTSTART:20260521T083000
DTEND:20260521T163000
LOCATION:Holstohus, Jan Schamhartstraat in Olst
SUMMARY:Werkplaats West-Overijssel
PRIORITY:3
END:VEVENT
END:VCALENDAR
